BEGIN:VCALENDAR
VERSION:2.0
X-WR-CALNAME: Chris Duarte Group
PRODID:GIGPRESS 2.0 WORDPRESS PLUGIN
CALSCALE:GREGORIAN
X-WR-TIMEZONE:Etc/GMT
METHOD:PUBLISH
BEGIN:VTIMEZONE
TZID:GMT
BEGIN:STANDARD
DTSTART:20071028T010000
TZOFFSETTO:+0000
TZOFFSETFROM:+0000
END:STANDARD
END:VTIMEZONE
BEGIN:VEVENT
SUMMARY:Chris Duarte Group at Shank Hall
DESCRIPTION:All Ages/Licensed
LOCATION:Shank Hall\, 1434 North Farwell Ave\, Milwaukee\, US
UID:20260429-1457-admin@duarte.rocks
URL:http://duarte.rocks/shows
DTSTART;VALUE=DATE;TZID=GMT:20260429
DTEND;VALUE=DATE;TZID=GMT:20260429
DTSTAMP:20260423T110912Z
END:VEVENT
BEGIN:VEVENT
SUMMARY:Chris Duarte Group at New Mill Tap
DESCRIPTION:All Ages/Licensed
LOCATION:New Mill Tap\, 6935 11th St # 16\,\, Rockford\, US
UID:20260430-1493-admin@duarte.rocks
URL:http://duarte.rocks/shows
DTSTART;VALUE=DATE;TZID=GMT:20260430
DTEND;VALUE=DATE;TZID=GMT:20260430
DTSTAMP:20260423T110912Z
END:VEVENT
BEGIN:VEVENT
SUMMARY:Chris Duarte Group at North Street Cabaret
DESCRIPTION:All Ages/Licensed
LOCATION:North Street Cabaret\, 601 North St.\, Madison\, US
UID:20260501-1458-admin@duarte.rocks
URL:http://duarte.rocks/shows
DTSTART;VALUE=DATE;TZID=GMT:20260501
DTEND;VALUE=DATE;TZID=GMT:20260501
DTSTAMP:20260423T110912Z
END:VEVENT
BEGIN:VEVENT
SUMMARY:Chris Duarte Group at Octopus
DESCRIPTION:All Ages/Licensed
LOCATION:Octopus\, 2205 College St\,\, Cedar Falls\, US
UID:20260502-1459-admin@duarte.rocks
URL:http://duarte.rocks/shows
DTSTART;VALUE=DATE;TZID=GMT:20260502
DTEND;VALUE=DATE;TZID=GMT:20260502
DTSTAMP:20260423T110912Z
END:VEVENT
BEGIN:VEVENT
SUMMARY:Chris Duarte Group at Tailgaters
DESCRIPTION:Notes: Located in River Woods Plaza All Ages/Licensed
LOCATION:Tailgaters\, 431 W Boughton Rd\,\, Bolingbrook\, US
UID:20260503-1495-admin@duarte.rocks
URL:http://duarte.rocks/shows
DTSTART;VALUE=DATE;TZID=GMT:20260503
DTEND;VALUE=DATE;TZID=GMT:20260503
DTSTAMP:20260423T110912Z
END:VEVENT
BEGIN:VEVENT
SUMMARY:Chris Duarte Group at Private Event
DESCRIPTION:All Ages/Licensed
LOCATION:Private Event\, Carlinville\, US
UID:20260504-1476-admin@duarte.rocks
URL:http://duarte.rocks/shows
DTSTART;VALUE=DATE;TZID=GMT:20260504
DTEND;VALUE=DATE;TZID=GMT:20260504
DTSTAMP:20260423T110912Z
END:VEVENT
BEGIN:VEVENT
SUMMARY:Chris Duarte Group at Benders Bar & Grill
DESCRIPTION:All Ages/Licensed
LOCATION:Benders Bar & Grill\, 409 E Northwater St\,\, Silver Lake\, US
UID:20260505-1461-admin@duarte.rocks
URL:http://duarte.rocks/shows
DTSTART;VALUE=DATE;TZID=GMT:20260505
DTEND;VALUE=DATE;TZID=GMT:20260505
DTSTAMP:20260423T110912Z
END:VEVENT
BEGIN:VEVENT
SUMMARY:Chris Duarte Group at Reggie's Live
DESCRIPTION:All Ages/Licensed
LOCATION:Reggie's Live\, 2105 South State Street\, Chicago\, US
UID:20260507-1462-admin@duarte.rocks
URL:http://duarte.rocks/shows
DTSTART;VALUE=DATE;TZID=GMT:20260507
DTEND;VALUE=DATE;TZID=GMT:20260507
DTSTAMP:20260423T110912Z
END:VEVENT
BEGIN:VEVENT
SUMMARY:Chris Duarte Group at Maxwell's House of Music
DESCRIPTION:All Ages/Licensed
LOCATION:Maxwell's House of Music\, 1710 E 10th St\,\, Jeffersonville\, US
UID:20260508-1463-admin@duarte.rocks
URL:http://duarte.rocks/shows
DTSTART;VALUE=DATE;TZID=GMT:20260508
DTEND;VALUE=DATE;TZID=GMT:20260508
DTSTAMP:20260423T110912Z
END:VEVENT
BEGIN:VEVENT
SUMMARY:Chris Duarte Group at Bootleg Hill Honey Meads
DESCRIPTION:All Ages/Licensed
LOCATION:Bootleg Hill Honey Meads\, 226 W 3rd St\,\, Davenport\, US
UID:20260509-1496-admin@duarte.rocks
URL:http://duarte.rocks/shows
DTSTART;VALUE=DATE;TZID=GMT:20260509
DTEND;VALUE=DATE;TZID=GMT:20260509
DTSTAMP:20260423T110912Z
END:VEVENT
BEGIN:VEVENT
SUMMARY:Chris Duarte Group at The Winchester Music Tavern
DESCRIPTION:All Ages/Licensed
LOCATION:The Winchester Music Tavern\, 12112 Madison Ave\,\, Lakewood\, US
UID:20260510-1464-admin@duarte.rocks
URL:http://duarte.rocks/shows
DTSTART;VALUE=DATE;TZID=GMT:20260510
DTEND;VALUE=DATE;TZID=GMT:20260510
DTSTAMP:20260423T110912Z
END:VEVENT
BEGIN:VEVENT
SUMMARY:Chris Duarte Group at Fanatics Pub
DESCRIPTION:All Ages/Licensed
LOCATION:Fanatics Pub\, 7281 W Main St\,\, Lima\, US
UID:20260512-1465-admin@duarte.rocks
URL:http://duarte.rocks/shows
DTSTART;VALUE=DATE;TZID=GMT:20260512
DTEND;VALUE=DATE;TZID=GMT:20260512
DTSTAMP:20260423T110912Z
END:VEVENT
BEGIN:VEVENT
SUMMARY:Chris Duarte Group at The Sportsmen's Tavern
DESCRIPTION:All Ages/Licensed
LOCATION:The Sportsmen's Tavern\, 326 Amherst\, Buffalo\, US
UID:20260513-1466-admin@duarte.rocks
URL:http://duarte.rocks/shows
DTSTART;VALUE=DATE;TZID=GMT:20260513
DTEND;VALUE=DATE;TZID=GMT:20260513
DTSTAMP:20260423T110912Z
END:VEVENT
BEGIN:VEVENT
SUMMARY:Chris Duarte Group at The Loose Canon
DESCRIPTION:All Ages/Licensed
LOCATION:The Loose Canon\, 1566 Argyle St\,\, Halifax\,\, CA
UID:20260515-1477-admin@duarte.rocks
URL:http://duarte.rocks/shows
DTSTART;VALUE=DATE;TZID=GMT:20260515
DTEND;VALUE=DATE;TZID=GMT:20260515
DTSTAMP:20260423T110912Z
END:VEVENT
BEGIN:VEVENT
SUMMARY:Chris Duarte Group at Market Square
DESCRIPTION:Notes: Event time: 2pm-4pm All Ages/Licensed
LOCATION:Market Square\, 1 Market Square\,\, Saint John\,\, CA
UID:20260516-1478-admin@duarte.rocks
URL:http://duarte.rocks/shows
DTSTART;VALUE=DATE;TZID=GMT:20260516
DTEND;VALUE=DATE;TZID=GMT:20260516
DTSTAMP:20260423T110912Z
END:VEVENT
BEGIN:VEVENT
SUMMARY:Chris Duarte Group at L'ANTI Bar & Spectacles
DESCRIPTION:All Ages/Licensed
LOCATION:L'ANTI Bar & Spectacles\, 251 Rue Dorchester\,\, Québec\,\, CA
UID:20260517-1479-admin@duarte.rocks
URL:http://duarte.rocks/shows
DTSTART;VALUE=DATE;TZID=GMT:20260517
DTEND;VALUE=DATE;TZID=GMT:20260517
DTSTAMP:20260423T110912Z
END:VEVENT
BEGIN:VEVENT
SUMMARY:Chris Duarte Group at Hub City Vinyl
DESCRIPTION:All Ages/Licensed
LOCATION:Hub City Vinyl\, 28 E Baltimore St\,\, Hagerstown\, US
UID:20260520-1467-admin@duarte.rocks
URL:http://duarte.rocks/shows
DTSTART;VALUE=DATE;TZID=GMT:20260520
DTEND;VALUE=DATE;TZID=GMT:20260520
DTSTAMP:20260423T110912Z
END:VEVENT
BEGIN:VEVENT
SUMMARY:Chris Duarte Group at Hungry Tiger
DESCRIPTION:All Ages/Licensed
LOCATION:Hungry Tiger\, 120 Charter Oak\, Manchester\, US
UID:20260521-1468-admin@duarte.rocks
URL:http://duarte.rocks/shows
DTSTART;VALUE=DATE;TZID=GMT:20260521
DTEND;VALUE=DATE;TZID=GMT:20260521
DTSTAMP:20260423T110912Z
END:VEVENT
BEGIN:VEVENT
SUMMARY:Chris Duarte Group at Brickhouse
DESCRIPTION:All Ages/Licensed
LOCATION:Brickhouse\, 259 Broadturn\, Scarburough\, US
UID:20260522-1469-admin@duarte.rocks
URL:http://duarte.rocks/shows
DTSTART;VALUE=DATE;TZID=GMT:20260522
DTEND;VALUE=DATE;TZID=GMT:20260522
DTSTAMP:20260423T110912Z
END:VEVENT
BEGIN:VEVENT
SUMMARY:Chris Duarte Group at PRIVATE EVENT
DESCRIPTION:All Ages/Licensed
LOCATION:PRIVATE EVENT\, 6 Knollwood Circle\, Simsbury\, US
UID:20260523-1480-admin@duarte.rocks
URL:http://duarte.rocks/shows
DTSTART;VALUE=DATE;TZID=GMT:20260523
DTEND;VALUE=DATE;TZID=GMT:20260523
DTSTAMP:20260423T110912Z
END:VEVENT
BEGIN:VEVENT
SUMMARY:Chris Duarte Group at Chan's Eggrolls & Jazz
DESCRIPTION:All Ages/Licensed
LOCATION:Chan's Eggrolls & Jazz\, 267 Main St.\, Woonsocket\, US
UID:20260524-1481-admin@duarte.rocks
URL:http://duarte.rocks/shows
DTSTART;VALUE=DATE;TZID=GMT:20260524
DTEND;VALUE=DATE;TZID=GMT:20260524
DTSTAMP:20260423T110912Z
END:VEVENT
BEGIN:VEVENT
SUMMARY:Chris Duarte Group at Clam Man's Party House
DESCRIPTION:All Ages/Licensed
LOCATION:Clam Man's Party House\, 67 Auburn Rd (State Rte 5 & 20)\, Seneca Falls\, US
UID:20260526-1494-admin@duarte.rocks
URL:http://duarte.rocks/shows
DTSTART;VALUE=DATE;TZID=GMT:20260526
DTEND;VALUE=DATE;TZID=GMT:20260526
DTSTAMP:20260423T110912Z
END:VEVENT
BEGIN:VEVENT
SUMMARY:Chris Duarte Group at The Lizzie Rose Music Room
DESCRIPTION:All Ages/Licensed
LOCATION:The Lizzie Rose Music Room\, 217 E Main St\,\, Tuckerton\, US
UID:20260527-1470-admin@duarte.rocks
URL:http://duarte.rocks/shows
DTSTART;VALUE=DATE;TZID=GMT:20260527
DTEND;VALUE=DATE;TZID=GMT:20260527
DTSTAMP:20260423T110912Z
END:VEVENT
BEGIN:VEVENT
SUMMARY:Chris Duarte Group at Debonair Music Hall
DESCRIPTION:All Ages/Licensed
LOCATION:Debonair Music Hall\, 1409 Queen Anne Rd.\, Teaneck\, US
UID:20260528-1484-admin@duarte.rocks
URL:http://duarte.rocks/shows
DTSTART;VALUE=DATE;TZID=GMT:20260528
DTEND;VALUE=DATE;TZID=GMT:20260528
DTSTAMP:20260423T110912Z
END:VEVENT
BEGIN:VEVENT
SUMMARY:Chris Duarte Group at The Bull Run
DESCRIPTION:All Ages/Licensed
LOCATION:The Bull Run\, 215 Great Rd\,\, Shirley\, US
UID:20260529-1472-admin@duarte.rocks
URL:http://duarte.rocks/shows
DTSTART;VALUE=DATE;TZID=GMT:20260529
DTEND;VALUE=DATE;TZID=GMT:20260529
DTSTAMP:20260423T110912Z
END:VEVENT
BEGIN:VEVENT
SUMMARY:Chris Duarte Group at Jamey's House of Music
DESCRIPTION:All Ages/Licensed
LOCATION:Jamey's House of Music\, 32 S Lansdowne Ave\,\, Lansdowne\, US
UID:20260530-1486-admin@duarte.rocks
URL:http://duarte.rocks/shows
DTSTART;VALUE=DATE;TZID=GMT:20260530
DTEND;VALUE=DATE;TZID=GMT:20260530
DTSTAMP:20260423T110912Z
END:VEVENT
BEGIN:VEVENT
SUMMARY:Chris Duarte Group at The Rusty Nail
DESCRIPTION:All Ages/Licensed
LOCATION:The Rusty Nail\, 1310 S. 5th Ave.\, Wilmington\, US
UID:20260531-1487-admin@duarte.rocks
URL:http://duarte.rocks/shows
DTSTART;VALUE=DATE;TZID=GMT:20260531
DTEND;VALUE=DATE;TZID=GMT:20260602
DTSTAMP:20260423T110912Z
END:VEVENT
BEGIN:VEVENT
SUMMARY:Chris Duarte Group at Cafe Eleven
DESCRIPTION:All Ages/Licensed
LOCATION:Cafe Eleven\, 501 A1A Beach Blvd\,\, St. Augustine\, US
UID:20260602-1488-admin@duarte.rocks
URL:http://duarte.rocks/shows
DTSTART;VALUE=DATE;TZID=GMT:20260602
DTEND;VALUE=DATE;TZID=GMT:20260602
DTSTAMP:20260423T110912Z
END:VEVENT
BEGIN:VEVENT
SUMMARY:Chris Duarte Group at Paradise Bar & Grill
DESCRIPTION:All Ages/Licensed
LOCATION:Paradise Bar & Grill\, 21 Via De Luna Dr\,\, Pensacola Beach\, US
UID:20260603-1489-admin@duarte.rocks
URL:http://duarte.rocks/shows
DTSTART;VALUE=DATE;TZID=GMT:20260603
DTEND;VALUE=DATE;TZID=GMT:20260603
DTSTAMP:20260423T110912Z
END:VEVENT
BEGIN:VEVENT
SUMMARY:Chris Duarte Group at Gasa Gasa
DESCRIPTION:All Ages/Licensed
LOCATION:Gasa Gasa\, 4920 Freret St.\, New Orleans\, US
UID:20260604-1497-admin@duarte.rocks
URL:http://duarte.rocks/shows
DTSTART;VALUE=DATE;TZID=GMT:20260604
DTEND;VALUE=DATE;TZID=GMT:20260604
DTSTAMP:20260423T110912Z
END:VEVENT
BEGIN:VEVENT
SUMMARY:Chris Duarte Group at McGonigel's Mucky Duck
DESCRIPTION:All Ages/Licensed
LOCATION:McGonigel's Mucky Duck\, 2425 Norfolk St\,\, Houston\, US
UID:20260605-1498-admin@duarte.rocks
URL:http://duarte.rocks/shows
DTSTART;VALUE=DATE;TZID=GMT:20260605
DTEND;VALUE=DATE;TZID=GMT:20260605
DTSTAMP:20260423T110912Z
END:VEVENT
BEGIN:VEVENT
SUMMARY:Chris Duarte Group at Haze Smokehouse
DESCRIPTION:All Ages/Licensed
LOCATION:Haze Smokehouse\, 159 Bucklin St.\, LaSalle\, US
UID:20260814-1499-admin@duarte.rocks
URL:http://duarte.rocks/shows
DTSTART;VALUE=DATE;TZID=GMT:20260814
DTEND;VALUE=DATE;TZID=GMT:20260814
DTSTAMP:20260423T110912Z
END:VEVENT
BEGIN:VEVENT
SUMMARY:Chris Duarte Group at Bender's Bar and Grill
DESCRIPTION:All Ages/Licensed
LOCATION:Bender's Bar and Grill\, 409 E Northwater St\,\, Silver Lake\, US
UID:20260815-1500-admin@duarte.rocks
URL:http://duarte.rocks/shows
DTSTART;VALUE=DATE;TZID=GMT:20260815
DTEND;VALUE=DATE;TZID=GMT:20260815
DTSTAMP:20260423T110912Z
END:VEVENT
BEGIN:VEVENT
SUMMARY:Chris Duarte Group at Rosie O'Hares Public House
DESCRIPTION:All Ages/Licensed
LOCATION:Rosie O'Hares Public House\, 702 Water St\, East\, Dundee\, US
UID:20260816-1501-admin@duarte.rocks
URL:http://duarte.rocks/shows
DTSTART;VALUE=DATE;TZID=GMT:20260816
DTEND;VALUE=DATE;TZID=GMT:20260816
DTSTAMP:20260423T110912Z
END:VEVENT
BEGIN:VEVENT
SUMMARY:Chris Duarte Group at The Alamo
DESCRIPTION:All Ages/Licensed
LOCATION:The Alamo\, 1115 N. 5th\, Springfield\, US
UID:20260817-1502-admin@duarte.rocks
URL:http://duarte.rocks/shows
DTSTART;VALUE=DATE;TZID=GMT:20260817
DTEND;VALUE=DATE;TZID=GMT:20260817
DTSTAMP:20260423T110912Z
END:VEVENT
BEGIN:VEVENT
SUMMARY:Chris Duarte Group at Sunbanks Blues Festival
DESCRIPTION:Notes: Sunbanks Lake Resort All Ages/Licensed
LOCATION:Sunbanks Blues Festival\, 57662 WA-155\,\, Electric City\, US
UID:20260911-1503-admin@duarte.rocks
URL:http://duarte.rocks/shows
DTSTART;VALUE=DATE;TZID=GMT:20260911
DTEND;VALUE=DATE;TZID=GMT:20260911
DTSTAMP:20260423T110912Z
END:VEVENT
BEGIN:VEVENT
SUMMARY:Chris Duarte Group at Coda Concert House
DESCRIPTION:All Ages/Licensed
LOCATION:Coda Concert House\, 2120 E. 24th\, Joplin\, US
UID:20261201-1490-admin@duarte.rocks
URL:http://duarte.rocks/shows
DTSTART;VALUE=DATE;TZID=GMT:20261201
DTEND;VALUE=DATE;TZID=GMT:20261203
DTSTAMP:20260423T110912Z
END:VEVENT
END:VCALENDAR